BEGIN:VCALENDAR
VERSION:2.0
PRODID:-//Haywood County Schools Foundation - ECPv4.4.2//NONSGML v1.0//EN
CALSCALE:GREGORIAN
METHOD:PUBLISH
X-WR-CALNAME:Haywood County Schools Foundation
X-ORIGINAL-URL:http://hcsf.haywood.k12.nc.us
X-WR-CALDESC:Events for Haywood County Schools Foundation
BEGIN:VEVENT
DTSTART;VALUE=DATE:20150909
DTEND;VALUE=DATE:20151210
DTSTAMP:20260426T043039
CREATED:20140723T203945Z
LAST-MODIFIED:20140723T203945Z
UID:1094-1441756800-1449791999@hcsf.haywood.k12.nc.us
SUMMARY:Cultural Center Art Exhibition
DESCRIPTION:Ullam mollit vel\, officiis curabitur netus occaecat sapien! Esse! Per nunc\, vero quod. Aspernatur pretium urna eu vero felis\, habitasse\, lobortis arcu nam praesent. Minim.\n\nPlacerat molestie. Debitis sequi dictumst nulla parturient qui? Vel magna donec per\, excepteur auctor\, praesentium! Ullamco voluptatum sociis consequatur provident\, ultricies\, placerat aspernatur accusamus? Ipsa.
URL:http://hcsf.haywood.k12.nc.us/event/cultural-center-art-exhibition-2015-09-09/
LOCATION:78 E Washington St\, Chicago\, IL\, 60602\, United States
ATTACH;FMTTYPE=image/jpeg:http://hcsf.haywood.k12.nc.us/wp-content/uploads/sites/25/2014/07/DeathtoStock_Desk10.jpg
END:VEVENT
BEGIN:VEVENT
DTSTART;VALUE=DATE:20150913
DTEND;VALUE=DATE:20151216
DTSTAMP:20260426T043039
CREATED:20140723T203513Z
LAST-MODIFIED:20140723T203513Z
UID:1095-1442102400-1450310399@hcsf.haywood.k12.nc.us
SUMMARY:Park Center Rally For Peace
DESCRIPTION:A peace movement is a social movement that seeks to achieve ideals such as the ending of a particular war (or all wars)\, minimize inter-human violence in a particular place or type of situation\, including ban guns\, and often linked to the goal of achieving world peace. \n\nMeans to achieve these ends include advocacy of pacifism\, non-violent resistance\, diplomacy\, boycotts\, peace camps\, moral purchasing\, supporting anti-war political candidates\, legislation to remove the profit from government contracts to the Military–industrial complex\, banning guns\, creating open government and transparency tools\, direct democracy\, supporting Whistleblowers who expose War-Crimes or conspiracies to create wars\, demonstrations\, and national political lobbying groups to create legislation. 
URL:http://hcsf.haywood.k12.nc.us/event/park-center-rally-for-peace-2015-09-13/
LOCATION:337 E Randolph St\, Chicago\, IL\, 60602\, United States
ATTACH;FMTTYPE=image/jpeg:http://hcsf.haywood.k12.nc.us/wp-content/uploads/sites/25/2014/07/MalibuShoes.jpg
END:VEVENT
END:VCALENDAR